BEGIN:VCALENDAR
VERSION:2.0
PRODID:icalendar-ruby
CALSCALE:GREGORIAN
METHOD:PUBLISH
BEGIN:VEVENT
DTSTAMP:20260423T080351Z
UID:489-679181@pleasanthill.tithelysetup5.com
DTSTART:20260718T130000Z
DTEND:20260718T160000Z
CLASS:PUBLIC
CREATED:20260327T064306
DESCRIPTION:Join us Saturday\, July 18 at 9:00 a.m. at the Springdale Recre
 ation Center in Lancaster for the 10th Annual Back to School Bash. \n\nOur
  goal this year is to serve 900 children with shoes\, backpacks\, school s
 upplies\, vision screenings\, and school physicals.\n\nPleasant Hill will 
 play a key role through financial support\, volunteers on the day of the e
 vent\, and by hosting the sorting of 900 pairs of shoes in our gym in the 
 three weeks leading up to July 18.\n\nWatch for more details after Easter\
 , including information about the 2026 Quarter Auction supporting this imp
 ortant outreach.
LAST-MODIFIED:20260327T064306
LOCATION:Springdale Recreation Center
SUMMARY:10th Annual Lancaster Co. Back to School Bash
URL;VALUE=URI:https://www.pleasanthillmethodist.org/events/10th-annual-lanc
 aster-co-back-to-school-bash/2026-07-18
ATTACH;FILENAME=backtoschoolbash202601ti.jpg;FMTTYPE=image/jpeg:https://dq5
 pwpg1q8ru0.cloudfront.net/2026/03/27/10/43/06/50cf9f5b-f13b-4932-b991-3637
 5ca5f802/backtoschoolbash202601ti.jpg
END:VEVENT
END:VCALENDAR
