BEGIN:VCALENDAR
VERSION:2.0
PRODID:icalendar-ruby
CALSCALE:GREGORIAN
METHOD:PUBLISH
BEGIN:VEVENT
DTSTAMP:20260424T085836Z
UID:498-779931@pleasanthill.tithelysetup5.com
DTSTART:20260801T200000Z
DTEND:20260801T220000Z
CLASS:PUBLIC
CREATED:20260422T081532
DESCRIPTION:\n\n\n\nIt's already time to send the kids back to school Let's
  celebrate by giving them a fun party. Pleasant Hill UMC is proud to offer
  this fun\, free event! We will have ice cream\, a bounce house\, water ga
 mes and crafts! Fun for all ages! Saturday\, August 1 from 4-6 pm.\n\n\n\n
LAST-MODIFIED:20260422T081532
LOCATION:Front Lawn
SUMMARY:Community Back to School Party
URL;VALUE=URI:https://www.pleasanthillmethodist.org/events/community-back-t
 o-school-party/2026-08-01
ATTACH;FILENAME=Back-to-School.jpg;FMTTYPE=image/jpeg:https://dq5pwpg1q8ru0
 .cloudfront.net/2026/04/22/12/15/32/3dcfd17c-8470-4eac-91c6-43db1eedb791/B
 ack-to-School.jpg
END:VEVENT
END:VCALENDAR
