BEGIN:VCALENDAR
VERSION:2.0
PRODID:icalendar-ruby
CALSCALE:GREGORIAN
METHOD:PUBLISH
BEGIN:VEVENT
DTSTAMP:20260425T164641Z
UID:248-792544@pleasanthill.tithelysetup5.com
DTSTART:20260901T100000Z
DTEND:20260901T140000Z
CLASS:PUBLIC
CREATED:20260425T120836
DESCRIPTION:Looking for a warm and inviting way to start your Tuesday morni
 ngs? Stop by Solid Grounds\, open from 6 - 10 a.m. every Tuesday in the Pl
 easant Hill Café.\n\nWhether you’re an early riser or just need a quick
  pick-me-up\, we’ve got you covered with free coffee\, tea\, and good co
 nversation. Take a moment to relax and connect with others in the communit
 y\, or grab a cup to go and kickstart your day with a smile.  You can als
 o connect to our guest wi-fi and work in a quiet space if needed!\n\nWe ca
 n’t wait to see you there! Come as you are\, and let Solid Grounds be yo
 ur weekly coffee stop!\n\nIf you feel led to be a part of this ministry an
 d would like to help make the coffee once in while\, no willing workers wi
 ll be refused. Call Mary Lee in the church office and she will get you inv
 olved!
LAST-MODIFIED:20260425T120836
LOCATION:Family Life Center Cafe
SUMMARY:Solid Grounds 
URL;VALUE=URI:https://www.pleasanthillmethodist.org/events/solid-grounds/20
 26-09-01
ATTACH;FILENAME=Coffee.jpg;FMTTYPE=image/jpeg:https://dq5pwpg1q8ru0.cloudfr
 ont.net/2024/01/08/11/14/12/59d1382f-8122-4082-9ccc-14fffc2f22ce/Coffee.jp
 g
END:VEVENT
END:VCALENDAR
